BEGIN:VCALENDAR
VERSION:2.0
PRODID:Canton, GA Calendar Creator
METHOD:PUBLISH
BEGIN:VEVENT
DTSTAMP:20230109T130005
DTSTART:20230211T120000
DTEND:20230211T180000
SUMMARY:Downtown Canton Chocolate Walk
DESCRIPTION:<p>Join us for an afternoon of shopping and chocolate in Downtown Canton! Visit your favorite shops and sample chocolate provided by our Downtown businesses. Don't worry, you'll have a goody box to take home any uneaten chocolate....wouldn't want it to go to waste!<br>Purchase tickets: www.eventbrite.com/e/downtown-canton-ga-chocolate-walk-tickets-510655062037</p><p></p>
X-ALT-DESC;FMTTYPE=text/html:<p>Join us for an afternoon of shopping and chocolate in Downtown Canton! Visit your favorite shops and sample chocolate provided by our Downtown businesses. Don't worry, you'll have a goody box to take home any uneaten chocolate....wouldn't want it to go to waste!<br>Purchase tickets: www.eventbrite.com/e/downtown-canton-ga-chocolate-walk-tickets-510655062037</p><p></p>
LOCATION:Downtown Canton\, 130 East Main Street Canton\, Georgia 30114
CLASS:PUBLIC
END:VEVENT
END:VCALENDAR
