BEGIN:VCALENDAR
VERSION:2.0
PRODID:Canton, GA Calendar Creator
METHOD:PUBLISH
BEGIN:VEVENT
DTSTAMP:20230110T142249
DTSTART:20230119T180000
DTEND:20230119T190000
SUMMARY:State of the City Address by Mayor Bill Grant
DESCRIPTION:<p>City of Canton Mayor Bill Grant will give his annual State of the City Address at the City Council Meeting, Jan. 19 at 6 p.m. in City Hall.<br><br>"I hope you will join us for the State of City Address, where we will highlight some of the more substantial milestones, but more importantly, share some exciting updates on our goals and projects slated for this year as part of our Roadmap for Success 2.0 initiatives," said Grant. "In conjunction with approval of our long awaited City-wide Transportation Master Plan and the first comprehensive update to our City Ward Map in decades, 2023 will further hone our direction in very important ways."<br><br>You are invited to attend in person or online at <a href="https://canton.legistar.com/Calendar.aspx" target="_blank" data-link-type="web">https://canton.legistar.com/Calendar.aspx</a>. We hope you can join the Mayor and Council for this special event!</p>
X-ALT-DESC;FMTTYPE=text/html:<p>City of Canton Mayor Bill Grant will give his annual State of the City Address at the City Council Meeting, Jan. 19 at 6 p.m. in City Hall.<br><br>"I hope you will join us for the State of City Address, where we will highlight some of the more substantial milestones, but more importantly, share some exciting updates on our goals and projects slated for this year as part of our Roadmap for Success 2.0 initiatives," said Grant. "In conjunction with approval of our long awaited City-wide Transportation Master Plan and the first comprehensive update to our City Ward Map in decades, 2023 will further hone our direction in very important ways."<br><br>You are invited to attend in person or online at <a href="https://canton.legistar.com/Calendar.aspx" target="_blank" data-link-type="web">https://canton.legistar.com/Calendar.aspx</a>. We hope you can join the Mayor and Council for this special event!</p>
LOCATION:City Hall\, 110 Academy Street Canton\, Georgia 30114-3003
CLASS:PUBLIC
END:VEVENT
END:VCALENDAR
