BEGIN:VCALENDAR
VERSION:2.0
PRODID:Canton, GA Calendar Creator
METHOD:PUBLISH
BEGIN:VEVENT
DTSTAMP:20230105T141627
DTSTART:20230217T090000
DTEND:20230217T160000
SUMMARY:Canton Arbor Day
DESCRIPTION:<p>Join us at the Canton Arbor Day Event! Get free seedlings and partake in a plant sale!</p><p></p>
X-ALT-DESC;FMTTYPE=text/html:<p>Join us at the Canton Arbor Day Event! Get free seedlings and partake in a plant sale!</p><p></p>
LOCATION:Downtown Canton\, 130 East Main Street Canton\, Georgia 30114
CLASS:PUBLIC
END:VEVENT
END:VCALENDAR
