BEGIN:VCALENDAR
VERSION:2.0
PRODID:Canton, GA Calendar Creator
METHOD:PUBLISH
BEGIN:VEVENT
DTSTAMP:20230104T105803
DTSTART:20230128T203000
DTEND:20230128T220000
SUMMARY:Georgia Players Guild presents Sounds of Georgia
DESCRIPTION:<p>Experience "Sounds of Georgia" - a brand new production from the Georgia Players Guild!&nbsp; This historical revue celebrates the deep musical history of artists that were born or established their careers from our great state.&nbsp;The rich musical history of Georgia, told through songs that shaped it.&nbsp; Featuring songs from&nbsp; James Brown, Otis Redding, Allman Brothers, Alan Jackson, Travis Tritt, The Black Crowes, R.E.M, the B52s and more!&nbsp; &nbsp;</p><p>More information and tickets available at:&nbsp; gpg.ticketleap.com/soundsofgacanton/</p><p></p><div></div>
X-ALT-DESC;FMTTYPE=text/html:<p>Experience "Sounds of Georgia" - a brand new production from the Georgia Players Guild!&nbsp; This historical revue celebrates the deep musical history of artists that were born or established their careers from our great state.&nbsp;The rich musical history of Georgia, told through songs that shaped it.&nbsp; Featuring songs from&nbsp; James Brown, Otis Redding, Allman Brothers, Alan Jackson, Travis Tritt, The Black Crowes, R.E.M, the B52s and more!&nbsp; &nbsp;</p><p>More information and tickets available at:&nbsp; gpg.ticketleap.com/soundsofgacanton/</p><p></p><div></div>
LOCATION:Canton Theatre\, 171 E Main St. Canton\, Georgia 30114
CLASS:PUBLIC
END:VEVENT
END:VCALENDAR
