BEGIN:VCALENDAR
VERSION:2.0
PRODID:Canton, GA Calendar Creator
METHOD:PUBLISH
BEGIN:VEVENT
DTSTAMP:20221121T113235
DTSTART:20221203T180000
DTEND:20221203T200000
SUMMARY:Northside Hospital Celebration of Lights
DESCRIPTION:<p>Bring family and friends to have photos with Santa taken and partake in many other fun activities for kids. Lights on the Christmas trees at Northside locations represent those who have been affected by cancer. For more information, visit: give.northside.com/lights/</p><p></p>
X-ALT-DESC;FMTTYPE=text/html:<p>Bring family and friends to have photos with Santa taken and partake in many other fun activities for kids. Lights on the Christmas trees at Northside locations represent those who have been affected by cancer. For more information, visit: give.northside.com/lights/</p><p></p>
LOCATION:Etowah River Park\, 600 Brown Industrial Parkway Canton\, Georgia 30114
CLASS:PUBLIC
END:VEVENT
END:VCALENDAR
