BEGIN:VCALENDAR
VERSION:2.0
PRODID:Canton, GA Calendar Creator
METHOD:PUBLISH
BEGIN:VEVENT
DTSTAMP:20221121T111601
DTSTART:20221203T090000
DTEND:20221203T150000
SUMMARY:Bizarre Bash
DESCRIPTION:<p>Join us at this block party to celebrate 2 years of Bizarre Coffee! Shop with local artists, small businesses, and artisans in our downtown community.&nbsp;</p><p></p>
X-ALT-DESC;FMTTYPE=text/html:<p>Join us at this block party to celebrate 2 years of Bizarre Coffee! Shop with local artists, small businesses, and artisans in our downtown community.&nbsp;</p><p></p>
LOCATION:Downtown Canton\, 130 East Main Street Canton\, Georgia 30114
CLASS:PUBLIC
END:VEVENT
END:VCALENDAR
