BEGIN:VCALENDAR
VERSION:2.0
PRODID:Canton, GA Calendar Creator
METHOD:PUBLISH
BEGIN:VEVENT
DTSTAMP:20221104T145805
DTSTART:20221127T150000
DTEND:20221127T170000
SUMMARY:Theatre- The Hunchback of Notre Dame
DESCRIPTION:<h4>Based on the Victor Hugo novel and songs from the Disney animated feature.<br><br>Quasimodo, a deformed bell-ringer who longs to be "Out There," observes all of Paris reveling in the Feast of Fools. Held captive by his devious caretaker, the archdeacon Dom Claude Frollo, he escapes for the day and joins the boisterous crowd, only to be treated cruelly by all but the beautiful Romani woman, Esmeralda. Quasimodo isn’t the only one captivated by her free spirit, though – the handsome Captain Phoebus and Frollo are equally enthralled. As the three vie for her attention, Frollo embarks on a mission to destroy the Roma – and it’s up to Quasimodo to save them all.</h4><p><a href="http://loleks.ticketleap.com/" target="_blank">http://loleks.ticketleap.com/</a></p><p></p><div><div></div></div>
X-ALT-DESC;FMTTYPE=text/html:<h4>Based on the Victor Hugo novel and songs from the Disney animated feature.<br><br>Quasimodo, a deformed bell-ringer who longs to be "Out There," observes all of Paris reveling in the Feast of Fools. Held captive by his devious caretaker, the archdeacon Dom Claude Frollo, he escapes for the day and joins the boisterous crowd, only to be treated cruelly by all but the beautiful Romani woman, Esmeralda. Quasimodo isn’t the only one captivated by her free spirit, though – the handsome Captain Phoebus and Frollo are equally enthralled. As the three vie for her attention, Frollo embarks on a mission to destroy the Roma – and it’s up to Quasimodo to save them all.</h4><p><a href="http://loleks.ticketleap.com/" target="_blank">http://loleks.ticketleap.com/</a></p><p></p><div><div></div></div>
LOCATION:Canton Theatre\, 171 E Main St. Canton\, Georgia 30114
CLASS:PUBLIC
END:VEVENT
END:VCALENDAR
