BEGIN:VCALENDAR
VERSION:2.0
PRODID:Canton, GA Calendar Creator
METHOD:PUBLISH
BEGIN:VEVENT
DTSTAMP:20221108T153315
DTSTART:20221116T090000
DTEND:20221116T120000
SUMMARY:Senior Education Symposium
DESCRIPTION:<div></div><p>Join us on Nov. 16 for the Senior Education Symposium at City Hall. During this FREE event, you will have two opportunities to attend, 9AM-12PM or 4-7PM, to meet with representatives and learn more about Medicare, hospice, assisted living/independent/memory care living, elder law, aide devices, home care, emergency, geriatric doctors, long term insurance, financial, and pharmacy.&nbsp;<br><br>Seniors, family members of seniors, and senior caregivers are all encouraged to attend. A Spanish interpreter will be onsite if needed to translate.&nbsp;<br><br>This event is presented by Cherokee Senior Services and the City of Canton.</p>
X-ALT-DESC;FMTTYPE=text/html:<div></div><p>Join us on Nov. 16 for the Senior Education Symposium at City Hall. During this FREE event, you will have two opportunities to attend, 9AM-12PM or 4-7PM, to meet with representatives and learn more about Medicare, hospice, assisted living/independent/memory care living, elder law, aide devices, home care, emergency, geriatric doctors, long term insurance, financial, and pharmacy.&nbsp;<br><br>Seniors, family members of seniors, and senior caregivers are all encouraged to attend. A Spanish interpreter will be onsite if needed to translate.&nbsp;<br><br>This event is presented by Cherokee Senior Services and the City of Canton.</p>
LOCATION:City Hall\, 110 Academy Street Canton\, Georgia 30114-3003
CLASS:PUBLIC
END:VEVENT
END:VCALENDAR
