BEGIN:VCALENDAR
VERSION:2.0
PRODID:Canton, GA Calendar Creator
METHOD:PUBLISH
BEGIN:VEVENT
DTSTAMP:20221026T153327
DTSTART:20221201T180000
DTEND:20221201T210000
SUMMARY:Mistletoe on Main
DESCRIPTION:Come experience Christmas in Canton. Enjoy a complimentary wagon ride through Downtown Canton as you take in the lights and beauty of what makes Canton special. Visit Santa (December 1st- December 15th ONLY).&nbsp;
X-ALT-DESC;FMTTYPE=text/html:Come experience Christmas in Canton. Enjoy a complimentary wagon ride through Downtown Canton as you take in the lights and beauty of what makes Canton special. Visit Santa (December 1st- December 15th ONLY).&nbsp;
LOCATION:Downtown Canton\, 130 East Main Street Canton\, Georgia 30114
CLASS:PUBLIC
END:VEVENT
END:VCALENDAR
