BEGIN:VCALENDAR
VERSION:2.0
PRODID:Canton, GA Calendar Creator
METHOD:PUBLISH
BEGIN:VEVENT
DTSTAMP:20221026T153256
DTSTART:20221126T100000
DTEND:20221126T235900
SUMMARY:Small Business Saturday
DESCRIPTION:Celebrate small business Saturday by shopping small! 
X-ALT-DESC;FMTTYPE=text/html:Celebrate small business Saturday by shopping small! 
LOCATION:
CLASS:PUBLIC
END:VEVENT
END:VCALENDAR
