BEGIN:VCALENDAR
VERSION:2.0
PRODID:Canton, GA Calendar Creator
METHOD:PUBLISH
BEGIN:VEVENT
DTSTAMP:20221026T153226
DTSTART:20221116T183000
DTEND:20221116T203000
SUMMARY:Tree Lighting
DESCRIPTION:Join us for the annual tree lighting in Downtown Canton to welcome in the holiday season! Santa will be arriving at 7PM to help us light the tree.&nbsp;
X-ALT-DESC;FMTTYPE=text/html:Join us for the annual tree lighting in Downtown Canton to welcome in the holiday season! Santa will be arriving at 7PM to help us light the tree.&nbsp;
LOCATION:Downtown Canton\, 130 East Main Street Canton\, Georgia 30114
CLASS:PUBLIC
END:VEVENT
END:VCALENDAR
