BEGIN:VCALENDAR
VERSION:2.0
PRODID:Canton, GA Calendar Creator
METHOD:PUBLISH
BEGIN:VEVENT
DTSTAMP:20221024T140925
DTSTART:20221202T190000
DTEND:20221202T210000
SUMMARY:Film- Elf
DESCRIPTION:<p>Join us for the hilarious Christmas family film ELF, starring Will Ferrell!</p><p>Tickets are $2 and will be sold online only beginning November 25.</p><p>&nbsp;</p><p></p>
X-ALT-DESC;FMTTYPE=text/html:<p>Join us for the hilarious Christmas family film ELF, starring Will Ferrell!</p><p>Tickets are $2 and will be sold online only beginning November 25.</p><p>&nbsp;</p><p></p>
LOCATION:Canton Theatre\, 171 E Main St. Canton\, Georgia 30114
CLASS:PUBLIC
END:VEVENT
END:VCALENDAR
