BEGIN:VCALENDAR
VERSION:2.0
PRODID:Canton, GA Calendar Creator
METHOD:PUBLISH
BEGIN:VEVENT
DTSTAMP:20220929T104854
DTSTART:20221022T080000
DTEND:20221022T235900
SUMMARY:Think Pink Cherokee Breast Cancer Awareness Walk
DESCRIPTION:<p>The City of Canton, Downtown Canton and Northside Hospital Cherokee would like to invite you to the 2nd Annual ‘Think Pink Cherokee’ Breast Cancer Awareness Walk. This event  will feature a one-mile informational walk in Downtown Canton, live entertainment, breast cancer awareness activities, and a walkers’ reception for all participants in the walk. All proceeds from the Think Pink Walk will help the underserved and underinsured with their mammograms.&nbsp;</p><p>The walk and registration will begin in Cannon Park. Check in (previously registered and walk up day of registration) will begin at 8:00 am and the walk begins at 9:30 am.</p><p>WALK AND HELP SAVE A LIFE! Register here:&nbsp;https://www.eventbrite.com/e/think-pink-cherokee-2022-breast-cancer-awareness-walk-tickets-402965890827?fbclid=IwAR0sKlb3pgIN2sL-KPxi6mK-Ab2NRui00E1h6AfWLlcT_dme_Hsf_7C73H0&nbsp;</p>
X-ALT-DESC;FMTTYPE=text/html:<p>The City of Canton, Downtown Canton and Northside Hospital Cherokee would like to invite you to the 2nd Annual ‘Think Pink Cherokee’ Breast Cancer Awareness Walk. This event  will feature a one-mile informational walk in Downtown Canton, live entertainment, breast cancer awareness activities, and a walkers’ reception for all participants in the walk. All proceeds from the Think Pink Walk will help the underserved and underinsured with their mammograms.&nbsp;</p><p>The walk and registration will begin in Cannon Park. Check in (previously registered and walk up day of registration) will begin at 8:00 am and the walk begins at 9:30 am.</p><p>WALK AND HELP SAVE A LIFE! Register here:&nbsp;https://www.eventbrite.com/e/think-pink-cherokee-2022-breast-cancer-awareness-walk-tickets-402965890827?fbclid=IwAR0sKlb3pgIN2sL-KPxi6mK-Ab2NRui00E1h6AfWLlcT_dme_Hsf_7C73H0&nbsp;</p>
LOCATION:Downtown Canton\, 130 East Main Street Canton\, Georgia 30114
CLASS:PUBLIC
END:VEVENT
END:VCALENDAR
