BEGIN:VCALENDAR
VERSION:2.0
PRODID:Canton, GA Calendar Creator
METHOD:PUBLISH
BEGIN:VEVENT
DTSTAMP:20220928T100313
DTSTART:20221012T200000
DTEND:20221012T220000
SUMMARY:Local Film- Larry and the Grave in the Pines
DESCRIPTION:<p>Everyone is invited to a Halloween treat. Come be a part of the World Premiere of the feature film LARRY AND THE GRAVE IN THE PINES.<br>Meet the cast, crew, and mingle with other filmmakers and industry professionals at the Historic Canton Theatre on Wednesday October 12th. Doors open at 7PM, film rolls at 8PM. Tickets are $10 at the door.</p><p></p>
X-ALT-DESC;FMTTYPE=text/html:<p>Everyone is invited to a Halloween treat. Come be a part of the World Premiere of the feature film LARRY AND THE GRAVE IN THE PINES.<br>Meet the cast, crew, and mingle with other filmmakers and industry professionals at the Historic Canton Theatre on Wednesday October 12th. Doors open at 7PM, film rolls at 8PM. Tickets are $10 at the door.</p><p></p>
LOCATION:Canton Theatre\, 171 E Main St. Canton\, Georgia 30114
CLASS:PUBLIC
END:VEVENT
END:VCALENDAR
