BEGIN:VCALENDAR
VERSION:2.0
PRODID:Canton, GA Calendar Creator
METHOD:PUBLISH
BEGIN:VEVENT
DTSTAMP:20220909T121029
DTSTART:20220923T193000
DTEND:20220923T213000
SUMMARY:Picture Perfect Cabaret- Presented by Lolek's Storytellers
DESCRIPTION:<p>Picture Perfect Cabaret, a musical fundraiser for Lolek’s Storytellers 22/23 season: September 23rd and 24th at 7:30pm&nbsp;</p><p>For more information and tickets, please visit&nbsp;<a href="https://loleksstorytellers.wixsite.com/loleks/shows-events" target="_blank">https://loleksstorytellers.wixsite.com/loleks/shows-events</a></p><p>&nbsp;</p>
X-ALT-DESC;FMTTYPE=text/html:<p>Picture Perfect Cabaret, a musical fundraiser for Lolek’s Storytellers 22/23 season: September 23rd and 24th at 7:30pm&nbsp;</p><p>For more information and tickets, please visit&nbsp;<a href="https://loleksstorytellers.wixsite.com/loleks/shows-events" target="_blank">https://loleksstorytellers.wixsite.com/loleks/shows-events</a></p><p>&nbsp;</p>
LOCATION:Canton Theatre\, 171 E Main St. Canton\, Georgia 30114
CLASS:PUBLIC
END:VEVENT
END:VCALENDAR
