BEGIN:VCALENDAR
VERSION:2.0
PRODID:Canton, GA Calendar Creator
METHOD:PUBLISH
BEGIN:VEVENT
DTSTAMP:20220812T103844
DTSTART:20220903T183000
DTEND:20220903T223000
SUMMARY:Waleska Presents: Whiskey Stills and Record Deals
DESCRIPTION:<div><p>Enjoy some smoking hot southern rock covers, plus many Waleska originals! It'll be a show like no other!</p></div><div structured-content"=""><div><div eds-l-sm-mar-vert-4="" eds-text-bm="" structured-content-rich-text"=""><p>Waleska is a young band formed in 2017 with a passion for music with heart and soul. Watch as the band puts on a show like you’ve never seen before! Rich originals and spot on covers that'll leave you wanting more. Come make memories with us!</p><p>&nbsp;With opening guest Jake Aaron Michael and Featuring Anna Shinholster</p><p>Tickets available at&nbsp;<a href="https://www.eventbrite.com/e/waleska-presents-whiskey-stills-and-record-deals-tickets-305066150067?fbclid=IwAR0XENh-RVISuLy7LjvxzvYYAh8l4krJAv1hX86FoSZLkUkfh8Mrkdm9RO0&amp;fs=e&amp;s=cl#" target="_blank">https://www.eventbrite.com/e/waleska-presents-whiskey-stills-and-record-deals-tickets-305066150067?fbclid=IwAR0XENh-RVISuLy7LjvxzvYYAh8l4krJAv1hX86FoSZLkUkfh8Mrkdm9RO0&amp;fs=e&amp;s=cl#</a></p><div></div></div></div></div>
X-ALT-DESC;FMTTYPE=text/html:<div><p>Enjoy some smoking hot southern rock covers, plus many Waleska originals! It'll be a show like no other!</p></div><div structured-content"=""><div><div eds-l-sm-mar-vert-4="" eds-text-bm="" structured-content-rich-text"=""><p>Waleska is a young band formed in 2017 with a passion for music with heart and soul. Watch as the band puts on a show like you’ve never seen before! Rich originals and spot on covers that'll leave you wanting more. Come make memories with us!</p><p>&nbsp;With opening guest Jake Aaron Michael and Featuring Anna Shinholster</p><p>Tickets available at&nbsp;<a href="https://www.eventbrite.com/e/waleska-presents-whiskey-stills-and-record-deals-tickets-305066150067?fbclid=IwAR0XENh-RVISuLy7LjvxzvYYAh8l4krJAv1hX86FoSZLkUkfh8Mrkdm9RO0&amp;fs=e&amp;s=cl#" target="_blank">https://www.eventbrite.com/e/waleska-presents-whiskey-stills-and-record-deals-tickets-305066150067?fbclid=IwAR0XENh-RVISuLy7LjvxzvYYAh8l4krJAv1hX86FoSZLkUkfh8Mrkdm9RO0&amp;fs=e&amp;s=cl#</a></p><div></div></div></div></div>
LOCATION:Canton Theatre\, 171 E Main St. Canton\, Georgia 30114
CLASS:PUBLIC
END:VEVENT
END:VCALENDAR
