BEGIN:VCALENDAR
VERSION:2.0
PRODID:Canton, GA Calendar Creator
METHOD:PUBLISH
BEGIN:VEVENT
DTSTAMP:20220713T101657
DTSTART:20220726T140000
DTEND:20220726T160000
SUMMARY:Moana en Espanol
DESCRIPTION:<p>¡Únase a nosotros para una presentación muy especial de Moana en español el martes 26 de julio a las 2pm! Los boletos cuestan $1 y están disponibles en https://cantonga.governmentwindow.com/estore/theater/canton-theatre.html (la versión en inglés se mostrará el jueves 28 de julio a las 10 am y 2 pm) Presentado por Woodstock City Church.&nbsp;<a href="http://cantonga.governmentwindow.com/estore/theater/canton-theatre.html" target="_blank">http://cantonga.governmentwindow.com/estore/theater/canton-theatre.html</a></p><p>&nbsp;Join us for a very special presentation of Moana in Spanish on Tuesday, July 26 at 2pm! Tickets $1 and are available at&nbsp; https://cantonga.governmentwindow.com/estore/theater/canton-theatre.html (English version will be shown Thursday, July 28 at 10am &amp; 2pm) Presented by Woodstock City Church. Tickets available at&nbsp;<a href="http://cantonga.governmentwindow.com/estore/theater/canton-theatre.html" target="_blank">http://cantonga.governmentwindow.com/estore/theater/canton-theatre.html</a></p><p>&nbsp;</p><p></p>
X-ALT-DESC;FMTTYPE=text/html:<p>¡Únase a nosotros para una presentación muy especial de Moana en español el martes 26 de julio a las 2pm! Los boletos cuestan $1 y están disponibles en https://cantonga.governmentwindow.com/estore/theater/canton-theatre.html (la versión en inglés se mostrará el jueves 28 de julio a las 10 am y 2 pm) Presentado por Woodstock City Church.&nbsp;<a href="http://cantonga.governmentwindow.com/estore/theater/canton-theatre.html" target="_blank">http://cantonga.governmentwindow.com/estore/theater/canton-theatre.html</a></p><p>&nbsp;Join us for a very special presentation of Moana in Spanish on Tuesday, July 26 at 2pm! Tickets $1 and are available at&nbsp; https://cantonga.governmentwindow.com/estore/theater/canton-theatre.html (English version will be shown Thursday, July 28 at 10am &amp; 2pm) Presented by Woodstock City Church. Tickets available at&nbsp;<a href="http://cantonga.governmentwindow.com/estore/theater/canton-theatre.html" target="_blank">http://cantonga.governmentwindow.com/estore/theater/canton-theatre.html</a></p><p>&nbsp;</p><p></p>
LOCATION:Canton Theatre\, 171 E Main St. Canton\, Georgia 30114
CLASS:PUBLIC
END:VEVENT
END:VCALENDAR
