BEGIN:VCALENDAR
VERSION:2.0
PRODID:Canton, GA Calendar Creator
METHOD:PUBLISH
BEGIN:VEVENT
DTSTAMP:20220708T101036
DTSTART:20220708T000000
DTEND:20220710T235900
SUMMARY:Southern Traditions Car Show
DESCRIPTION:<p>&nbsp;<span style="color: rgb(19, 22, 44); font-size: 28px; font-weight: bold;">Date &amp; Time</span><div>Fri Jul 8 2022 at 09:00 am to Jul 10 2022 2:00 pm<br><small>(Eastern Daylight Time)</small><div add-to-cal="" pull-left"=""><a dropdown-toggle="" track="" track-discovery"="" data-discovery-key="user_add_to_calender" data-track="EventPage-v4|rightInfo|addToCalendar" title="Add this event to your calendar" data-toggle="dropdown">Add to Calendar</a></div></div><div><h3>Location</h3></div><div></div></p><p>600 Brown Industrial Pkwy, Canton, GA 30114, United States</p><p>Southern Tradition Show Sponsored by Air Lift</p><div property="schema:description" id="event_description">Airlift presents<br>Southern Tradition Season 5<br><br>We are back for our 5th year and we are excited to make it one of the best since it’s our 5 year anniversary! Still looking for sponsors and vendors.<br><br>Lots of detail to come!<br><br><br><br>Pig N Out BBQ will be on site slinging that meat!!<br><br>Top 50 awards<br>Best Of’s</div><p>&nbsp;</p><p>&nbsp;</p>
X-ALT-DESC;FMTTYPE=text/html:<p>&nbsp;<span style="color: rgb(19, 22, 44); font-size: 28px; font-weight: bold;">Date &amp; Time</span><div>Fri Jul 8 2022 at 09:00 am to Jul 10 2022 2:00 pm<br><small>(Eastern Daylight Time)</small><div add-to-cal="" pull-left"=""><a dropdown-toggle="" track="" track-discovery"="" data-discovery-key="user_add_to_calender" data-track="EventPage-v4|rightInfo|addToCalendar" title="Add this event to your calendar" data-toggle="dropdown">Add to Calendar</a></div></div><div><h3>Location</h3></div><div></div></p><p>600 Brown Industrial Pkwy, Canton, GA 30114, United States</p><p>Southern Tradition Show Sponsored by Air Lift</p><div property="schema:description" id="event_description">Airlift presents<br>Southern Tradition Season 5<br><br>We are back for our 5th year and we are excited to make it one of the best since it’s our 5 year anniversary! Still looking for sponsors and vendors.<br><br>Lots of detail to come!<br><br><br><br>Pig N Out BBQ will be on site slinging that meat!!<br><br>Top 50 awards<br>Best Of’s</div><p>&nbsp;</p><p>&nbsp;</p>
LOCATION:Etowah River Park\, 600 Brown Industrial Pkwy Canton\, Georgia 30114
CLASS:PUBLIC
END:VEVENT
END:VCALENDAR
