BEGIN:VCALENDAR
VERSION:2.0
PRODID:Canton, GA Calendar Creator
METHOD:PUBLISH
BEGIN:VEVENT
DTSTAMP:20220809T125539
DTSTART:20220826T200000
DTEND:20220826T220000
SUMMARY:Georgia Players Guild presents To the Limit: The Best of the Eagles
DESCRIPTION:<p>The Georgia Players Guild presents “To The Limit”, a tribute to the music of Eagles. From the iconic story-like lyrics to the edgy, bluesy guitar riffs to the tight, workmanlike grooves, the show features the attention to detail and professionalism that GPG has become known for, with a sound and feel as down-home as Glenn Fry’s legendary “Colorado '' t-shirt.&nbsp;</p><p>Members of the Georgia Players Guild have appeared on network TV shows like America's Got Talent, and onstage with musical giants like Derek Trucks, Oteil Burbridge, Kim Burrell, and Jennifer Holiday. From their home base at the historic Strand Theatre in Marietta, GA, their popularity has grown to put them in demand at theaters and festivals across the country.</p><p>&nbsp;Tickets available at&nbsp;<a href="https://gpg.ticketleap.com/cantoneagles/details" target="_blank">https://gpg.ticketleap.com/cantoneagles/details</a></p><p>&nbsp;</p>
X-ALT-DESC;FMTTYPE=text/html:<p>The Georgia Players Guild presents “To The Limit”, a tribute to the music of Eagles. From the iconic story-like lyrics to the edgy, bluesy guitar riffs to the tight, workmanlike grooves, the show features the attention to detail and professionalism that GPG has become known for, with a sound and feel as down-home as Glenn Fry’s legendary “Colorado '' t-shirt.&nbsp;</p><p>Members of the Georgia Players Guild have appeared on network TV shows like America's Got Talent, and onstage with musical giants like Derek Trucks, Oteil Burbridge, Kim Burrell, and Jennifer Holiday. From their home base at the historic Strand Theatre in Marietta, GA, their popularity has grown to put them in demand at theaters and festivals across the country.</p><p>&nbsp;Tickets available at&nbsp;<a href="https://gpg.ticketleap.com/cantoneagles/details" target="_blank">https://gpg.ticketleap.com/cantoneagles/details</a></p><p>&nbsp;</p>
LOCATION:Canton Theatre\, 171 E Main St. Canton\, Georgia 30114
CLASS:PUBLIC
END:VEVENT
END:VCALENDAR
