BEGIN:VCALENDAR
VERSION:2.0
PRODID:Canton, GA Calendar Creator
METHOD:PUBLISH
BEGIN:VEVENT
DTSTAMP:20220610T140223
DTSTART:20220621T113000
DTEND:20220621T130000
SUMMARY:Mural Ribbon Cutting and Block Party
DESCRIPTION:<div>(Wild)flower Power! The Canton Cultural Arts Commission and the City of Canton are excited to announce the City's newest mural. </div><div>&nbsp;</div><div>On June 21, from 11:30AM-1PM, join us as we have a ribbon cutting, recognize the the mural's featured artist, Madison Beaulieu, and then celebrate block party-style!</div><div>&nbsp;</div><div>Be sure to use&nbsp;<a g5ia77u1="" qu0x051f="" esr5mh6w="" e9989ue4="" r7d6kgcz="" rq0escxv="" nhd2j8a9="" nc684nl6="" p7hjln8o="" kvgmc6g5="" cxmmr5t8="" oygrvhab="" hcukyx3x="" jb3vyjys="" rz4wbd8a="" qt6c0cv9="" a8nywdso="" i1ao9s8h="" esuyzwwr="" f1sip0of="" lzcic4wl="" _aa9_="" _a6hd"="" href="https://www.instagram.com/explore/tags/cantongawildflowermural/" role="link" tabindex="0">#cantongawildflowermural</a>&nbsp;with any pics you take with the mural!&nbsp;<a g5ia77u1="" qu0x051f="" esr5mh6w="" e9989ue4="" r7d6kgcz="" rq0escxv="" nhd2j8a9="" nc684nl6="" p7hjln8o="" kvgmc6g5="" cxmmr5t8="" oygrvhab="" hcukyx3x="" jb3vyjys="" rz4wbd8a="" qt6c0cv9="" a8nywdso="" i1ao9s8h="" esuyzwwr="" f1sip0of="" lzcic4wl="" _aa9_="" _a6hd"="" href="https://www.instagram.com/explore/tags/cantonga/" role="link" tabindex="0">#cantonga</a>&nbsp;<a g5ia77u1="" qu0x051f="" esr5mh6w="" e9989ue4="" r7d6kgcz="" rq0escxv="" nhd2j8a9="" nc684nl6="" p7hjln8o="" kvgmc6g5="" cxmmr5t8="" oygrvhab="" hcukyx3x="" jb3vyjys="" rz4wbd8a="" qt6c0cv9="" a8nywdso="" i1ao9s8h="" esuyzwwr="" f1sip0of="" lzcic4wl="" _aa9_="" _a6hd"="" href="https://www.instagram.com/explore/tags/coolestsmalltowninamerica/" role="link" tabindex="0">#coolestsmalltowninamerica</a></div>
X-ALT-DESC;FMTTYPE=text/html:<div>(Wild)flower Power! The Canton Cultural Arts Commission and the City of Canton are excited to announce the City's newest mural. </div><div>&nbsp;</div><div>On June 21, from 11:30AM-1PM, join us as we have a ribbon cutting, recognize the the mural's featured artist, Madison Beaulieu, and then celebrate block party-style!</div><div>&nbsp;</div><div>Be sure to use&nbsp;<a g5ia77u1="" qu0x051f="" esr5mh6w="" e9989ue4="" r7d6kgcz="" rq0escxv="" nhd2j8a9="" nc684nl6="" p7hjln8o="" kvgmc6g5="" cxmmr5t8="" oygrvhab="" hcukyx3x="" jb3vyjys="" rz4wbd8a="" qt6c0cv9="" a8nywdso="" i1ao9s8h="" esuyzwwr="" f1sip0of="" lzcic4wl="" _aa9_="" _a6hd"="" href="https://www.instagram.com/explore/tags/cantongawildflowermural/" role="link" tabindex="0">#cantongawildflowermural</a>&nbsp;with any pics you take with the mural!&nbsp;<a g5ia77u1="" qu0x051f="" esr5mh6w="" e9989ue4="" r7d6kgcz="" rq0escxv="" nhd2j8a9="" nc684nl6="" p7hjln8o="" kvgmc6g5="" cxmmr5t8="" oygrvhab="" hcukyx3x="" jb3vyjys="" rz4wbd8a="" qt6c0cv9="" a8nywdso="" i1ao9s8h="" esuyzwwr="" f1sip0of="" lzcic4wl="" _aa9_="" _a6hd"="" href="https://www.instagram.com/explore/tags/cantonga/" role="link" tabindex="0">#cantonga</a>&nbsp;<a g5ia77u1="" qu0x051f="" esr5mh6w="" e9989ue4="" r7d6kgcz="" rq0escxv="" nhd2j8a9="" nc684nl6="" p7hjln8o="" kvgmc6g5="" cxmmr5t8="" oygrvhab="" hcukyx3x="" jb3vyjys="" rz4wbd8a="" qt6c0cv9="" a8nywdso="" i1ao9s8h="" esuyzwwr="" f1sip0of="" lzcic4wl="" _aa9_="" _a6hd"="" href="https://www.instagram.com/explore/tags/coolestsmalltowninamerica/" role="link" tabindex="0">#coolestsmalltowninamerica</a></div>
LOCATION:
CLASS:PUBLIC
END:VEVENT
END:VCALENDAR
