BEGIN:VCALENDAR
VERSION:2.0
PRODID:Canton, GA Calendar Creator
METHOD:PUBLISH
BEGIN:VEVENT
DTSTAMP:20220722T094248
DTSTART:20220728T140000
DTEND:20220728T160000
SUMMARY:Moana- $1 Summer Family Film Series
DESCRIPTION:<p>Join us for our $1 Summer Family Film Series each Thursday in June and July at 10am and 2pm.&nbsp;Presenting Sponsor: Woodstock City Church. Thank you to their amazing sponsorship, each ticket holder will receive a FREE drink, popcorn, and candy!&nbsp;</p><p>Tickets for "Moana" on July 28 are sold online at&nbsp;<a href="http://cantonga.governmentwindow.com/estore/theater/canton-theatre.html" target="_blank">http://cantonga.governmentwindow.com/estore/theater/canton-theatre.html</a></p><p></p><p>&nbsp;</p>
X-ALT-DESC;FMTTYPE=text/html:<p>Join us for our $1 Summer Family Film Series each Thursday in June and July at 10am and 2pm.&nbsp;Presenting Sponsor: Woodstock City Church. Thank you to their amazing sponsorship, each ticket holder will receive a FREE drink, popcorn, and candy!&nbsp;</p><p>Tickets for "Moana" on July 28 are sold online at&nbsp;<a href="http://cantonga.governmentwindow.com/estore/theater/canton-theatre.html" target="_blank">http://cantonga.governmentwindow.com/estore/theater/canton-theatre.html</a></p><p></p><p>&nbsp;</p>
LOCATION:Canton Theatre\, 171 E Main St. Canton\, Georgia 30114
CLASS:PUBLIC
END:VEVENT
END:VCALENDAR
