BEGIN:VCALENDAR
VERSION:2.0
PRODID:Canton, GA Calendar Creator
METHOD:PUBLISH
BEGIN:VEVENT
DTSTAMP:20220706T083937
DTSTART:20220707T140000
DTEND:20220707T160000
SUMMARY:Paw Patrol- $1 Summer Family Film Series
DESCRIPTION:<p>Join us for our $1 Summer Family Film Series each Thursday in June and July at 10am and 2pm.&nbsp;Presenting Sponsor: Woodstock City Church. Thank you to their amazing sponsorship, each ticket holder will receive a FREE drink, popcorn, and candy!&nbsp;</p><p>**This event is sold out**</p><p></p><p>&nbsp;</p><p>&nbsp;</p>
X-ALT-DESC;FMTTYPE=text/html:<p>Join us for our $1 Summer Family Film Series each Thursday in June and July at 10am and 2pm.&nbsp;Presenting Sponsor: Woodstock City Church. Thank you to their amazing sponsorship, each ticket holder will receive a FREE drink, popcorn, and candy!&nbsp;</p><p>**This event is sold out**</p><p></p><p>&nbsp;</p><p>&nbsp;</p>
LOCATION:Canton Theatre\, 171 E Main St. Canton\, Georgia 30114
CLASS:PUBLIC
END:VEVENT
END:VCALENDAR
