BEGIN:VCALENDAR
VERSION:2.0
PRODID:Canton, GA Calendar Creator
METHOD:PUBLISH
BEGIN:VEVENT
DTSTAMP:20220509T132749
DTSTART:20220604T070000
DTEND:20220604T100000
SUMMARY:Goshen Valley Run/Walk
DESCRIPTION:<div>DESCRIPTION</div><div><div id="raceFullDesc"><p>The Goshen Valley Run / Walk will kick-off the Upriver Festival at The Mill on Etowah.&nbsp;</p><p>At Goshen Valley, we believe kids in foster care deserve better. We believe that despite the abuse, neglect, or abandonment they have experienced, youth in foster care have the ability to achieve amazing things and experience lifelong peace and purpose. With help from donors like you, youth at Goshen are beating the odds.&nbsp;</p><p>Over the past 24 years, Goshen Valley has expanded and now has four programs, Goshen Valley Boys Ranch, Goshen New Beginnings, Goshen Homes and Goshen Therapeutic Services. Each program has a unique focus and ministry to foster children in Georgia.</p><p>Our mission is to provide peace and purpose to youth in foster care.</p><p>Following the run / walk on Saturday, June 4, The Mill on Etowah will host the Upriver Festival.&nbsp;</p></div></div>
X-ALT-DESC;FMTTYPE=text/html:<div>DESCRIPTION</div><div><div id="raceFullDesc"><p>The Goshen Valley Run / Walk will kick-off the Upriver Festival at The Mill on Etowah.&nbsp;</p><p>At Goshen Valley, we believe kids in foster care deserve better. We believe that despite the abuse, neglect, or abandonment they have experienced, youth in foster care have the ability to achieve amazing things and experience lifelong peace and purpose. With help from donors like you, youth at Goshen are beating the odds.&nbsp;</p><p>Over the past 24 years, Goshen Valley has expanded and now has four programs, Goshen Valley Boys Ranch, Goshen New Beginnings, Goshen Homes and Goshen Therapeutic Services. Each program has a unique focus and ministry to foster children in Georgia.</p><p>Our mission is to provide peace and purpose to youth in foster care.</p><p>Following the run / walk on Saturday, June 4, The Mill on Etowah will host the Upriver Festival.&nbsp;</p></div></div>
LOCATION:The Mill at Etowah\, 225 Reformation Parkway Canton\, Georgia 30114
CLASS:PUBLIC
END:VEVENT
END:VCALENDAR
