BEGIN:VCALENDAR
VERSION:2.0
PRODID:Canton, GA Calendar Creator
METHOD:PUBLISH
BEGIN:VEVENT
DTSTAMP:20220509T114949
DTSTART:20220612T143000
DTEND:20220612T163000
SUMMARY:In the Restroom at Rosenblooms
DESCRIPTION:<p>This contemporary comedy reveals the hopes, dreams and fears of three elderly ladies who spark their lonely lives by meeting daily in the rest room lounge of an outdated downtown department store, and the crazy/touching events that occur the day one of them is supposedly threatened. Tickets are available at&nbsp;<a href="http://www.cherokeetheatre.org" target="_blank">http://www.cherokeetheatre.org/</a>. For ticketing questions, email boxoffice@cherokeetheatre.org or call 770-591-0282.</p><p>&nbsp;</p><p></p>
X-ALT-DESC;FMTTYPE=text/html:<p>This contemporary comedy reveals the hopes, dreams and fears of three elderly ladies who spark their lonely lives by meeting daily in the rest room lounge of an outdated downtown department store, and the crazy/touching events that occur the day one of them is supposedly threatened. Tickets are available at&nbsp;<a href="http://www.cherokeetheatre.org" target="_blank">http://www.cherokeetheatre.org/</a>. For ticketing questions, email boxoffice@cherokeetheatre.org or call 770-591-0282.</p><p>&nbsp;</p><p></p>
LOCATION:Canton Theatre\, 171 E Main St. Canton\, Georgia 30114
CLASS:PUBLIC
END:VEVENT
END:VCALENDAR
