BEGIN:VCALENDAR
VERSION:2.0
PRODID:Canton, GA Calendar Creator
METHOD:PUBLISH
BEGIN:VEVENT
DTSTAMP:20220617T095435
DTSTART:20220623T100000
DTEND:20220623T140000
SUMMARY:Lady and the Tramp- Live Action- $1 Summer Family Film Series
DESCRIPTION:<p>Join us for our $1 Summer Family Film Series each Thursday in June and July at 10am and 12pm.&nbsp;Presenting Sponsor: Woodstock City Church. Thank you to their amazing sponsorship, each ticket holder will receive a FREE drink, popcorn, and candy!&nbsp;<br><br>Tickets for “Lady and the Tramp- Live Action” on June 23 are available at&nbsp;<a href="http://cantonga.governmentwindow.com/estore/theater/canton-theatre.html" target="_blank">http://cantonga.governmentwindow.com/estore/theater/canton-theatre.html</a></p><p>&nbsp;</p><p>&nbsp;</p>
X-ALT-DESC;FMTTYPE=text/html:<p>Join us for our $1 Summer Family Film Series each Thursday in June and July at 10am and 12pm.&nbsp;Presenting Sponsor: Woodstock City Church. Thank you to their amazing sponsorship, each ticket holder will receive a FREE drink, popcorn, and candy!&nbsp;<br><br>Tickets for “Lady and the Tramp- Live Action” on June 23 are available at&nbsp;<a href="http://cantonga.governmentwindow.com/estore/theater/canton-theatre.html" target="_blank">http://cantonga.governmentwindow.com/estore/theater/canton-theatre.html</a></p><p>&nbsp;</p><p>&nbsp;</p>
LOCATION:Canton Theatre\, 171 E Main St. Canton\, Georgia 30114
CLASS:PUBLIC
END:VEVENT
END:VCALENDAR
