BEGIN:VCALENDAR
VERSION:2.0
PRODID:Canton, GA Calendar Creator
METHOD:PUBLISH
BEGIN:VEVENT
DTSTAMP:20220610T104501
DTSTART:20220616T140000
DTEND:20220616T160000
SUMMARY:Raya and the Last Dragon- $1 Summer Family Film Series
DESCRIPTION:<p>Join us for our $1 Summer Family Film Series each Thursday in June and July at 10am and 2pm.&nbsp;Presenting Sponsor: Woodstock City Church. Thank you to their amazing sponsorship, each ticket holder will receive a FREE drink, popcorn, and candy!&nbsp;</p><p>Tickets for “Raya and the Last Dragon” on June 16 are available at&nbsp;<a href="http://cantonga.governmentwindow.com/estore/theater/canton-theatre.html" target="_blank">http://cantonga.governmentwindow.com/estore/theater/canton-theatre.html</a></p><p></p>
X-ALT-DESC;FMTTYPE=text/html:<p>Join us for our $1 Summer Family Film Series each Thursday in June and July at 10am and 2pm.&nbsp;Presenting Sponsor: Woodstock City Church. Thank you to their amazing sponsorship, each ticket holder will receive a FREE drink, popcorn, and candy!&nbsp;</p><p>Tickets for “Raya and the Last Dragon” on June 16 are available at&nbsp;<a href="http://cantonga.governmentwindow.com/estore/theater/canton-theatre.html" target="_blank">http://cantonga.governmentwindow.com/estore/theater/canton-theatre.html</a></p><p></p>
LOCATION:Canton Theatre\, 171 E Main St. Canton\, Georgia 30114
CLASS:PUBLIC
END:VEVENT
END:VCALENDAR
