BEGIN:VCALENDAR
VERSION:2.0
PRODID:Canton, GA Calendar Creator
METHOD:PUBLISH
BEGIN:VEVENT
DTSTAMP:20220418T084540
DTSTART:20220425T100000
DTEND:20220425T140000
SUMMARY:Anna Crawford Children's Center BBQ Fundraiser
DESCRIPTION:&nbsp;
X-ALT-DESC;FMTTYPE=text/html:&nbsp;
LOCATION:Downtown Canton\, 130 East Main Street Canton\, Georgia 30114
CLASS:PUBLIC
END:VEVENT
END:VCALENDAR
