BEGIN:VCALENDAR
VERSION:2.0
PRODID:Canton, GA Calendar Creator
METHOD:PUBLISH
BEGIN:VEVENT
DTSTAMP:20210721T164054
DTSTART:20210731T200000
DTEND:20210731T230000
SUMMARY:Canton Explorers' Rodeo
DESCRIPTION:<p>Canton Explorers' Rodeo is going to back at Canton's Boling Park this year!</p><p>There will be Bareback Bronc Riding, Bull Riding, Calf Roping, Cowgirl's Barrel Racing and Saddle Bronc Riding!</p><p>Gates Open at 6:00 pm and event starts at 8:00 pm. Tickets are $15 adults, $10 children 5-10, and FREE for children 4 and under.&nbsp;</p><p>&nbsp;For more info., call 706.897.0956 or visit&nbsp;<a href="https://www.cantonga.gov/?splash=http%3a%2f%2ffacebook.com%2fbarwrodeoco&amp;____isexternal=true" target="_blank">facebook.com/barwrodeoco</a></p>
X-ALT-DESC;FMTTYPE=text/html:<p>Canton Explorers' Rodeo is going to back at Canton's Boling Park this year!</p><p>There will be Bareback Bronc Riding, Bull Riding, Calf Roping, Cowgirl's Barrel Racing and Saddle Bronc Riding!</p><p>Gates Open at 6:00 pm and event starts at 8:00 pm. Tickets are $15 adults, $10 children 5-10, and FREE for children 4 and under.&nbsp;</p><p>&nbsp;For more info., call 706.897.0956 or visit&nbsp;<a href="https://www.cantonga.gov/?splash=http%3a%2f%2ffacebook.com%2fbarwrodeoco&amp;____isexternal=true" target="_blank">facebook.com/barwrodeoco</a></p>
LOCATION:Boling Park\, 1200 Marietta Hwy Canton\, Georgia 30114
CLASS:PUBLIC
END:VEVENT
END:VCALENDAR
