BEGIN:VCALENDAR
VERSION:2.0
PRODID:Canton, GA Calendar Creator
METHOD:PUBLISH
BEGIN:VEVENT
DTSTAMP:20220406T143355
DTSTART:20220416T150000
DTEND:20220416T180000
SUMMARY:Visit with the Easter Bunny
DESCRIPTION:<p>Visit with the Easter Bunny! We'll have a balloon artist, lemonade stand, sidewalk chalk and more.&nbsp;</p><p style="text-align: center;">&nbsp;</p><p>&nbsp;</p>
X-ALT-DESC;FMTTYPE=text/html:<p>Visit with the Easter Bunny! We'll have a balloon artist, lemonade stand, sidewalk chalk and more.&nbsp;</p><p style="text-align: center;">&nbsp;</p><p>&nbsp;</p>
LOCATION:Downtown Canton\, 130 East Main Street Canton\, Georgia 30114
CLASS:PUBLIC
END:VEVENT
END:VCALENDAR
