BEGIN:VCALENDAR
VERSION:2.0
PRODID:Canton, GA Calendar Creator
METHOD:PUBLISH
BEGIN:VEVENT
DTSTAMP:20220324T161857
DTSTART:20220625T100000
DTEND:20220625T170000
SUMMARY:Garden in the Park
DESCRIPTION:<p>Join us for Canton's Garden in the Park featuring homegrown and handmade art, food, music, flowers, plants, recycling and more!&nbsp;</p><p>&nbsp;If you are interested in becoming a vendor, please view and submit the attached application by clicking <a href="https://canton.prod-as.govaccess.org/home/showpublisheddocument/732/637837355176270000" target="_blank">here</a> or by visiting www.cantonga.gov/gardeninthepark&nbsp;</p><p></p>
X-ALT-DESC;FMTTYPE=text/html:<p>Join us for Canton's Garden in the Park featuring homegrown and handmade art, food, music, flowers, plants, recycling and more!&nbsp;</p><p>&nbsp;If you are interested in becoming a vendor, please view and submit the attached application by clicking <a href="https://canton.prod-as.govaccess.org/home/showpublisheddocument/732/637837355176270000" target="_blank">here</a> or by visiting www.cantonga.gov/gardeninthepark&nbsp;</p><p></p>
LOCATION:Downtown Canton\, 130 East Main Street Canton\, Georgia 30114
CLASS:PUBLIC
END:VEVENT
END:VCALENDAR
