BEGIN:VCALENDAR
VERSION:2.0
PRODID:Canton, GA Calendar Creator
METHOD:PUBLISH
BEGIN:VEVENT
DTSTAMP:20220322T092232
DTSTART:20220910T090000
DTEND:20220910T123000
SUMMARY:Canton Farmers Market
DESCRIPTION:<p>Join us Saturday mornings beginning June 4 - October 15 in Downtown Canton as we celebrate our grower, gardeners, and food vendors.<br>Canton Farmers Market fosters stewardship of our land and goodwill in our community by providing a place for vendors to sell their products. Supporting the Market increases access to fresh, local food and supports healthy communities.<br>If you would like more information about the Canton Farmers Market or you are interested in being a vendor, visit&nbsp;https://www.cantonga.gov/our-city/visit-us/downtown-canton/canton-farmers-market or email us at cantongafarmersmarket@cantonga.gov</p><p><p style="text-align: center;"></p></p>
X-ALT-DESC;FMTTYPE=text/html:<p>Join us Saturday mornings beginning June 4 - October 15 in Downtown Canton as we celebrate our grower, gardeners, and food vendors.<br>Canton Farmers Market fosters stewardship of our land and goodwill in our community by providing a place for vendors to sell their products. Supporting the Market increases access to fresh, local food and supports healthy communities.<br>If you would like more information about the Canton Farmers Market or you are interested in being a vendor, visit&nbsp;https://www.cantonga.gov/our-city/visit-us/downtown-canton/canton-farmers-market or email us at cantongafarmersmarket@cantonga.gov</p><p><p style="text-align: center;"></p></p>
LOCATION:Brown Park\, 251 East Marietta Street Canton\, Georgia 30114
CLASS:PUBLIC
END:VEVENT
END:VCALENDAR
