BEGIN:VCALENDAR
VERSION:2.0
PRODID:Canton, GA Calendar Creator
METHOD:PUBLISH
BEGIN:VEVENT
DTSTAMP:20220321T105325
DTSTART:20220430T060000
DTEND:20220430T100000
SUMMARY:Walking on Sunshine 5k
DESCRIPTION:<p>Be the SUNSHINE on a cloudy day for children with cancer!~<br>Berkshire Hathaway HomeServices Georgia Properties invites you to come run or walk a 5K<br>for Sunshine Kids at Etowah River Park!</p><p>&nbsp;</p><p><div>ENTRY FEE &amp; REGISTRATION</div><div></div></p><p><b>Regular Registration (ends 4/23)</b></p><p>5K: &nbsp;$30</p><p>5K-No Shirt:&nbsp; $25</p><p>Virtual 5K: &nbsp;$30 (virtual registration closes 4/28)</p><p><b>Race Week Registration</b></p><p>5K: &nbsp;$35</p><p>5K-No Shirt: &nbsp;$30</p><p>Race Shirt (and sizes) are guaranteed to all participants registered by&nbsp;<b>4/20</b>. &nbsp;All registrations after 4/20 will receive a shirt while supplies last.</p>
X-ALT-DESC;FMTTYPE=text/html:<p>Be the SUNSHINE on a cloudy day for children with cancer!~<br>Berkshire Hathaway HomeServices Georgia Properties invites you to come run or walk a 5K<br>for Sunshine Kids at Etowah River Park!</p><p>&nbsp;</p><p><div>ENTRY FEE &amp; REGISTRATION</div><div></div></p><p><b>Regular Registration (ends 4/23)</b></p><p>5K: &nbsp;$30</p><p>5K-No Shirt:&nbsp; $25</p><p>Virtual 5K: &nbsp;$30 (virtual registration closes 4/28)</p><p><b>Race Week Registration</b></p><p>5K: &nbsp;$35</p><p>5K-No Shirt: &nbsp;$30</p><p>Race Shirt (and sizes) are guaranteed to all participants registered by&nbsp;<b>4/20</b>. &nbsp;All registrations after 4/20 will receive a shirt while supplies last.</p>
LOCATION:
CLASS:PUBLIC
END:VEVENT
END:VCALENDAR
