BEGIN:VCALENDAR
VERSION:2.0
PRODID:Canton, GA Calendar Creator
METHOD:PUBLISH
BEGIN:VEVENT
DTSTAMP:20220321T104609
DTSTART:20220423T060000
DTEND:20220423T130000
SUMMARY:Street Dog Dash
DESCRIPTION:<p>Join us at Etowah River park in Canton, GA for the 4th Annual Street Dog Dash 5K.</p><p>Participants are invited to bring their dogs to walk/run with them as long as the animals are vaccinated, on a non retractable leash 6 foot or less in length, non-aggressive, and in good physical condition. There is a $5 fee for dogs to participate.</p><p>The Cause:</p><p>All proceeds will go towards funding educational programs and law changes fighting against the Dog Meat Trade in Asia, along with funding the rescue and rehabilitation of victims of the Dog Meat Trade. Part of the proceeds will also be given to local animal shelters. For more information go to&nbsp;<a href="http://streetdogdash5k.org/" target="_blank">www.streetdogdash5K.</a>org</p>
X-ALT-DESC;FMTTYPE=text/html:<p>Join us at Etowah River park in Canton, GA for the 4th Annual Street Dog Dash 5K.</p><p>Participants are invited to bring their dogs to walk/run with them as long as the animals are vaccinated, on a non retractable leash 6 foot or less in length, non-aggressive, and in good physical condition. There is a $5 fee for dogs to participate.</p><p>The Cause:</p><p>All proceeds will go towards funding educational programs and law changes fighting against the Dog Meat Trade in Asia, along with funding the rescue and rehabilitation of victims of the Dog Meat Trade. Part of the proceeds will also be given to local animal shelters. For more information go to&nbsp;<a href="http://streetdogdash5k.org/" target="_blank">www.streetdogdash5K.</a>org</p>
LOCATION:Etowah River Park\, 600 Brown Industrial Parkway Canton\, Georgia 30114
CLASS:PUBLIC
END:VEVENT
END:VCALENDAR
