BEGIN:VCALENDAR
VERSION:2.0
PRODID:Canton, GA Calendar Creator
METHOD:PUBLISH
BEGIN:VEVENT
DTSTAMP:20220321T093230
DTSTART:20220618T180000
DTEND:20220618T220000
SUMMARY:River Rock Concert Series
DESCRIPTION:The River Rock Summer Concert Series features The Celebrity All Star Band on June 18th. This is a FREE and family friendly concert series at Etowah River Park in the amphitheater form 6pm-10pm. Bring your family, friends, lawn chairs, and coolers (no glass please!), and get ready to rock! The event will have food truck and kids activities as well.&nbsp;
X-ALT-DESC;FMTTYPE=text/html:The River Rock Summer Concert Series features The Celebrity All Star Band on June 18th. This is a FREE and family friendly concert series at Etowah River Park in the amphitheater form 6pm-10pm. Bring your family, friends, lawn chairs, and coolers (no glass please!), and get ready to rock! The event will have food truck and kids activities as well.&nbsp;
LOCATION:Etowah River Park\, 600 Brown Industrial Pkwy Canton\, 30114
CLASS:PUBLIC
END:VEVENT
END:VCALENDAR
