BEGIN:VCALENDAR
VERSION:2.0
PRODID:Canton, GA Calendar Creator
METHOD:PUBLISH
BEGIN:VEVENT
DTSTAMP:20220321T093012
DTSTART:20220521T180000
DTEND:20220521T220000
SUMMARY:River Rock Concert Series
DESCRIPTION:<p style="text-align: center;"><span style="background-color: rgb(250, 192, 143);">The River Rock Summer Concert Series features Atlanta Rhythm Section on May 21st. This is a FREE and family friendly concert series at Etowah River Park in the amphitheater form 6pm-10pm. Bring your family, friends, lawn chairs, and coolers (no glass please!), and get ready to rock! The event will have food truck and kids activities as well.&nbsp;</span></p>
X-ALT-DESC;FMTTYPE=text/html:<p style="text-align: center;"><span style="background-color: rgb(250, 192, 143);">The River Rock Summer Concert Series features Atlanta Rhythm Section on May 21st. This is a FREE and family friendly concert series at Etowah River Park in the amphitheater form 6pm-10pm. Bring your family, friends, lawn chairs, and coolers (no glass please!), and get ready to rock! The event will have food truck and kids activities as well.&nbsp;</span></p>
LOCATION:Etowah River Park\, 600 Brown Industrial Pkwy Canton\, Georgia 30114
CLASS:PUBLIC
END:VEVENT
END:VCALENDAR
