BEGIN:VCALENDAR
VERSION:2.0
PRODID:Canton, GA Calendar Creator
METHOD:PUBLISH
BEGIN:VEVENT
DTSTAMP:20221104T083154
DTSTART:20221112T120000
DTEND:20221112T180000
SUMMARY:Downtown Canton Art and Spirits Walk
DESCRIPTION:<p>Join us for this inaugural event filled with Art, Shopping, Wine, Beer and Spirits! Participating businesses and restaurants have been announced, and tickets are on sale now! Tickets are limited, so get yours today! <a href="https://www.eventbrite.com/e/downtown-canton-ga-art-spirits-walk-tickets-458699250807" target="_blank">Buy here now</a> or scan the QR code below.&nbsp;</p><p>&nbsp;</p><p><p style="text-align: center;">&nbsp;</p></p>
X-ALT-DESC;FMTTYPE=text/html:<p>Join us for this inaugural event filled with Art, Shopping, Wine, Beer and Spirits! Participating businesses and restaurants have been announced, and tickets are on sale now! Tickets are limited, so get yours today! <a href="https://www.eventbrite.com/e/downtown-canton-ga-art-spirits-walk-tickets-458699250807" target="_blank">Buy here now</a> or scan the QR code below.&nbsp;</p><p>&nbsp;</p><p><p style="text-align: center;">&nbsp;</p></p>
LOCATION:
CLASS:PUBLIC
END:VEVENT
END:VCALENDAR
