BEGIN:VCALENDAR
VERSION:2.0
PRODID:Canton, GA Calendar Creator
METHOD:PUBLISH
BEGIN:VEVENT
DTSTAMP:20220926T134752
DTSTART:20221007T180000
DTEND:20221007T210000
SUMMARY:Downtown Canton First Friday with the Ultimate Eagles Tribute ~ ON THE BORDER
DESCRIPTION:<div cxmmr5t8="" oygrvhab="" hcukyx3x="" c1et5uql"="">Join your friends in Downtown Canton for a family friendly fun night filled with live entertainment with On the Border, late night shopping, restaurants ready to welcome you, Kid's Zone, Moving Target ATL Axe Throwing, food and beverage vendors along Main Street and a CRUISE IN! Don't forget your chair and dancin' shoes!</div><div oygrvhab="" hcukyx3x="" c1et5uql="" o9v6fnle"="">'On the Border' is the most authentic Eagles Tribute in the World. Comprised of a multitude of musical talent and a knack for emulating the true recordings of the EAGLES themselves. Every show features all of the hits you love from the last 40+ years of the Eagles.</div><p>&nbsp;</p><p><p style="text-align: center;"></p></p>
X-ALT-DESC;FMTTYPE=text/html:<div cxmmr5t8="" oygrvhab="" hcukyx3x="" c1et5uql"="">Join your friends in Downtown Canton for a family friendly fun night filled with live entertainment with On the Border, late night shopping, restaurants ready to welcome you, Kid's Zone, Moving Target ATL Axe Throwing, food and beverage vendors along Main Street and a CRUISE IN! Don't forget your chair and dancin' shoes!</div><div oygrvhab="" hcukyx3x="" c1et5uql="" o9v6fnle"="">'On the Border' is the most authentic Eagles Tribute in the World. Comprised of a multitude of musical talent and a knack for emulating the true recordings of the EAGLES themselves. Every show features all of the hits you love from the last 40+ years of the Eagles.</div><p>&nbsp;</p><p><p style="text-align: center;"></p></p>
LOCATION:Downtown Canton\, 130 East Main Street Canton\, Georgia 30114
CLASS:PUBLIC
END:VEVENT
END:VCALENDAR
