BEGIN:VCALENDAR
VERSION:2.0
PRODID:Canton, GA Calendar Creator
METHOD:PUBLISH
BEGIN:VEVENT
DTSTAMP:20220314T170245
DTSTART:20220805T180000
DTEND:20220805T210000
SUMMARY:Downtown Canton First Friday with Bumpin' The Mango
DESCRIPTION:<p>Join your friends in Downtown Canton for a family friendly fun night filled with live entertainment with Bumpin' The Mango, late night shopping, restaurants ready to welcome you, Kid's Zone, Moving Target ATL Axe Throwing, food and beverage vendors along Main Street and a CRUISE IN! Don't forget your chair and dancin' shoes!</p><p>Formed in 2012, <strong>Bumpin’ The Mango</strong> has become Atlanta’s top funk &amp; soul band. Ten of the southeast’s finest musicians make up this musical brotherhood. Wielding a fiery five piece horn section, a rock solid rhythm section, and an incredible lead vocalist. Their music and presence radiates an energy from the stage that lifts the audience out of their seats and pulls them to the dance floor. Influenced by bands such as Tower Of Power, Earth Wind &amp; Fire, Chicago, and The Ohio Players, <strong>Bumpin’ The Mango</strong>’s original music is a melting pot of funk, soul, and R&amp;B. </p><p><p style="text-align: center;">&nbsp;</p></p>
X-ALT-DESC;FMTTYPE=text/html:<p>Join your friends in Downtown Canton for a family friendly fun night filled with live entertainment with Bumpin' The Mango, late night shopping, restaurants ready to welcome you, Kid's Zone, Moving Target ATL Axe Throwing, food and beverage vendors along Main Street and a CRUISE IN! Don't forget your chair and dancin' shoes!</p><p>Formed in 2012, <strong>Bumpin’ The Mango</strong> has become Atlanta’s top funk &amp; soul band. Ten of the southeast’s finest musicians make up this musical brotherhood. Wielding a fiery five piece horn section, a rock solid rhythm section, and an incredible lead vocalist. Their music and presence radiates an energy from the stage that lifts the audience out of their seats and pulls them to the dance floor. Influenced by bands such as Tower Of Power, Earth Wind &amp; Fire, Chicago, and The Ohio Players, <strong>Bumpin’ The Mango</strong>’s original music is a melting pot of funk, soul, and R&amp;B. </p><p><p style="text-align: center;">&nbsp;</p></p>
LOCATION:Downtown Canton\, 130 East Main Street Canton\, Georgia 30114
CLASS:PUBLIC
END:VEVENT
END:VCALENDAR
