BEGIN:VCALENDAR
VERSION:2.0
PRODID:Canton, GA Calendar Creator
METHOD:PUBLISH
BEGIN:VEVENT
DTSTAMP:20220314T164607
DTSTART:20220603T180000
DTEND:20220603T210000
SUMMARY:Downtown Canton First Friday with Shot Thru the Heart ~ Ultimate Bon Jovi Experience
DESCRIPTION:<div cxmmr5t8="" oygrvhab="" hcukyx3x="" c1et5uql"="">Join your friends in Downtown Canton for a family friendly fun night filled with live entertainment with Shot Thru the Heart, late night shopping, restaurants ready to welcome you, Kid's Zone, Moving Target ATL Axe Throwing, food and beverage vendors along Main Street and a CRUISE IN! Don't forget your chair and dancin' shoes!</div><div oygrvhab="" hcukyx3x="" c1et5uql="" o9v6fnle"=""></div><div oygrvhab="" hcukyx3x="" c1et5uql="" o9v6fnle"="">Shot Thru the Heart (STTH) is a professional tribute band that pays homage to the music and showmanship of Bon Jovi, one of the greatest rock bands to ever take the stage. STTH provides a high-energy concert experience, playing only the greatest hits and staying true to the original recordings. STTH is the real-deal! The music and vocals are live with meticulous attention to detail that clearly sets STTH apart from the competition.</div><div oygrvhab="" hcukyx3x="" c1et5uql="" o9v6fnle"="">Each member of Shot Thru the Heart is a seasoned, professional musician and entertainer. The energy emitted from the stage is contagious and reminiscent of the great arena rock concerts of the 80s. Each member of STTH grew up on the rock music of the 80s greatest bands including Van Halen, Ratt, Poison, Mötley Crüe, Def Leppard and the Scorpions. However, all members of STTH have a very special love and respect for the music of Bon Jovi. Love for the music of Bon Jovi bleeds through every note played and sung. The nostalgia effect is real!</div><p oygrvhab="" hcukyx3x="" c1et5uql="" style="text-align: center;">&nbsp;</p><p oygrvhab="" hcukyx3x="" c1et5uql=""><div oygrvhab="" hcukyx3x="" c1et5uql="" o9v6fnle"=""></div></p>
X-ALT-DESC;FMTTYPE=text/html:<div cxmmr5t8="" oygrvhab="" hcukyx3x="" c1et5uql"="">Join your friends in Downtown Canton for a family friendly fun night filled with live entertainment with Shot Thru the Heart, late night shopping, restaurants ready to welcome you, Kid's Zone, Moving Target ATL Axe Throwing, food and beverage vendors along Main Street and a CRUISE IN! Don't forget your chair and dancin' shoes!</div><div oygrvhab="" hcukyx3x="" c1et5uql="" o9v6fnle"=""></div><div oygrvhab="" hcukyx3x="" c1et5uql="" o9v6fnle"="">Shot Thru the Heart (STTH) is a professional tribute band that pays homage to the music and showmanship of Bon Jovi, one of the greatest rock bands to ever take the stage. STTH provides a high-energy concert experience, playing only the greatest hits and staying true to the original recordings. STTH is the real-deal! The music and vocals are live with meticulous attention to detail that clearly sets STTH apart from the competition.</div><div oygrvhab="" hcukyx3x="" c1et5uql="" o9v6fnle"="">Each member of Shot Thru the Heart is a seasoned, professional musician and entertainer. The energy emitted from the stage is contagious and reminiscent of the great arena rock concerts of the 80s. Each member of STTH grew up on the rock music of the 80s greatest bands including Van Halen, Ratt, Poison, Mötley Crüe, Def Leppard and the Scorpions. However, all members of STTH have a very special love and respect for the music of Bon Jovi. Love for the music of Bon Jovi bleeds through every note played and sung. The nostalgia effect is real!</div><p oygrvhab="" hcukyx3x="" c1et5uql="" style="text-align: center;">&nbsp;</p><p oygrvhab="" hcukyx3x="" c1et5uql=""><div oygrvhab="" hcukyx3x="" c1et5uql="" o9v6fnle"=""></div></p>
LOCATION:Downtown Canton\, 130 East Main Street Canton\, Georgia 30114
CLASS:PUBLIC
END:VEVENT
END:VCALENDAR
