BEGIN:VCALENDAR
VERSION:2.0
PRODID:Canton, GA Calendar Creator
METHOD:PUBLISH
BEGIN:VEVENT
DTSTAMP:20220823T113911
DTSTART:20220910T110000
DTEND:20220910T150000
SUMMARY:Multicultural Festival
DESCRIPTION:<p>&nbsp;<a href="http://www.cantonga.gov/mcfest" target="_blank"></a>For more information, please visit <a href="http://www.cantonga.gov/mcfest" target="_self">www.cantonga.gov/mcfest</a> or <a href="http://www.cantonga.gov/mcfestenespanol" target="_self">www.cantonga.gov/mcfestenespanol</a></p><p>&nbsp;</p>
X-ALT-DESC;FMTTYPE=text/html:<p>&nbsp;<a href="http://www.cantonga.gov/mcfest" target="_blank"></a>For more information, please visit <a href="http://www.cantonga.gov/mcfest" target="_self">www.cantonga.gov/mcfest</a> or <a href="http://www.cantonga.gov/mcfestenespanol" target="_self">www.cantonga.gov/mcfestenespanol</a></p><p>&nbsp;</p>
LOCATION:Etowah River Park\, 600 Brown Industrial Parkway Canton\, Georgia 30114
CLASS:PUBLIC
END:VEVENT
END:VCALENDAR
