BEGIN:VCALENDAR
VERSION:2.0
PRODID:Canton, GA Calendar Creator
METHOD:PUBLISH
BEGIN:VEVENT
DTSTAMP:20220224T093655
DTSTART:20220312T170000
DTEND:20220312T210000
SUMMARY:Glow for Hope 5K
DESCRIPTION:
X-ALT-DESC;FMTTYPE=text/html:
LOCATION:Etowah River Park\, 600 Brown Industrial Pkwy Canton\, Georgia 30114
CLASS:PUBLIC
END:VEVENT
END:VCALENDAR
