BEGIN:VCALENDAR
VERSION:2.0
PRODID:Canton, GA Calendar Creator
METHOD:PUBLISH
BEGIN:VEVENT
DTSTAMP:20220223T094449
DTSTART:20220312T060000
DTEND:20220312T120000
SUMMARY:Casa Superhero Run
DESCRIPTION:
X-ALT-DESC;FMTTYPE=text/html:
LOCATION:Etowah River Park\, 600 Brown Industrial Pkwy Cantong\, Georgia 30114
CLASS:PUBLIC
END:VEVENT
END:VCALENDAR
