BEGIN:VCALENDAR
VERSION:2.0
PRODID:Canton, GA Calendar Creator
METHOD:PUBLISH
BEGIN:VEVENT
DTSTAMP:20220222T105257
DTSTART:20220326T193700
DTEND:20220326T220000
SUMMARY:Kurt Lee Wheeler & the Lathemtown Poets Society
DESCRIPTION:<p>&nbsp;Tickets available at&nbsp;<a href="http://kurtleewheelermusic.com/" target="_blank">http://kurtleewheelermusic.com/</a></p><p></p>
X-ALT-DESC;FMTTYPE=text/html:<p>&nbsp;Tickets available at&nbsp;<a href="http://kurtleewheelermusic.com/" target="_blank">http://kurtleewheelermusic.com/</a></p><p></p>
LOCATION:Canton Theatre\, 171 E Main St. Canton\, Georgia 30114
CLASS:PUBLIC
END:VEVENT
END:VCALENDAR
