BEGIN:VCALENDAR
VERSION:2.0
PRODID:Canton, GA Calendar Creator
METHOD:PUBLISH
BEGIN:VEVENT
DTSTAMP:20220418T145433
DTSTART:20220422T200000
DTEND:20220422T220000
SUMMARY:Faith County
DESCRIPTION:<p>Presented by Cherokee Theatre Company. </p><p>Somewhere in the middle of nowhere in the south, there's a place where the beehive hairdo is still the rage and Saturday nights are reserved for the tractor pull in nearby Pickler.</p><p>&nbsp;Box office: 770-591-0282</p><p>Tickets at&nbsp;<a href="https://www.cherokeetheatre.org/" target="_blank">https://www.cherokeetheatre.org/</a></p><p>&nbsp;</p>
X-ALT-DESC;FMTTYPE=text/html:<p>Presented by Cherokee Theatre Company. </p><p>Somewhere in the middle of nowhere in the south, there's a place where the beehive hairdo is still the rage and Saturday nights are reserved for the tractor pull in nearby Pickler.</p><p>&nbsp;Box office: 770-591-0282</p><p>Tickets at&nbsp;<a href="https://www.cherokeetheatre.org/" target="_blank">https://www.cherokeetheatre.org/</a></p><p>&nbsp;</p>
LOCATION:Canton Theatre\, 171 E Main St. Canton\, Georgia 30114
CLASS:PUBLIC
END:VEVENT
END:VCALENDAR
