BEGIN:VCALENDAR
VERSION:2.0
PRODID:Canton, GA Calendar Creator
METHOD:PUBLISH
BEGIN:VEVENT
DTSTAMP:20220311T110242
DTSTART:20220311T200000
DTEND:20220311T220000
SUMMARY:Kansas- An Original Musical
DESCRIPTION:<p>Kansas- An Original Musical presented by Lolek's Storytellers. Tickets available at&nbsp;<a href="http://www.kansasga.com" target="_blank">http://www.kansasga.com/</a></p><p></p>
X-ALT-DESC;FMTTYPE=text/html:<p>Kansas- An Original Musical presented by Lolek's Storytellers. Tickets available at&nbsp;<a href="http://www.kansasga.com" target="_blank">http://www.kansasga.com/</a></p><p></p>
LOCATION:Canton Theatre\, 171 E Main St. Canton\, Georgia 30114
CLASS:PUBLIC
END:VEVENT
END:VCALENDAR
