BEGIN:VCALENDAR
VERSION:2.0
PRODID:Canton, GA Calendar Creator
METHOD:PUBLISH
BEGIN:VEVENT
DTSTAMP:20220208T145126
DTSTART:20220212T000000
DTEND:20220214T235900
SUMMARY:Canton City Council Retreat
DESCRIPTION:<p>Canton City Council will hold their annual retreat this year, Feb. 12-14, 2022, at the AC Hotel in Columbus, Ga. See <a href="https://canton.prod-as.govaccess.org/home/showpublisheddocument/705/637799285995030000" target="_blank">agenda here</a>.&nbsp;</p><p>&nbsp;</p>
X-ALT-DESC;FMTTYPE=text/html:<p>Canton City Council will hold their annual retreat this year, Feb. 12-14, 2022, at the AC Hotel in Columbus, Ga. See <a href="https://canton.prod-as.govaccess.org/home/showpublisheddocument/705/637799285995030000" target="_blank">agenda here</a>.&nbsp;</p><p>&nbsp;</p>
LOCATION:AC Hotel\, 1225 Broadway Columbus\, Georgia 31901
CLASS:PUBLIC
END:VEVENT
END:VCALENDAR
