BEGIN:VCALENDAR
VERSION:2.0
PRODID:Canton, GA Calendar Creator
METHOD:PUBLISH
BEGIN:VEVENT
DTSTAMP:20220106T125650
DTSTART:20220212T200000
DTEND:20220212T220000
SUMMARY:Picasso at the Lapin Agile
DESCRIPTION:<p>This long running Off Broadway absurdist comedy places Albert Einstein and Pablo Picasso in a Parisian cafe in 1904, just before the renowned scientist transformed physics with his theory of relativity and the celebrated painter set the art world afire with cubism. In his first comedy for the stage, the popular actor and screenwriter plays fast and loose with fact, fame, and fortune as these two geniuses muse on the century’s achievements and prospects, as well as other fanciful topics, with infectious dizziness.</p><p>*This show contains mature themes.*</p><p>Presented by Cherokee Theatre Company</p><p><strong>Tickets available at&nbsp;<a href="http://www.cherokeetheatre.org" target="_blank">http://www.cherokeetheatre.org/</a></strong></p><p><strong>Ticketing Questions:</strong><br><a href="mailto:&#98;&#111;&#120;&#111;&#102;&#102;&#105;&#99;&#101;&#64;&#99;&#104;&#101;&#114;&#111;&#107;&#101;&#101;&#116;&#104;&#101;&#97;&#116;&#114;&#101;&#46;&#111;&#114;&#103;">boxoffice@cherokeetheatre.org</a><br>or call us at &nbsp;770.591.0282</p><p></p>
X-ALT-DESC;FMTTYPE=text/html:<p>This long running Off Broadway absurdist comedy places Albert Einstein and Pablo Picasso in a Parisian cafe in 1904, just before the renowned scientist transformed physics with his theory of relativity and the celebrated painter set the art world afire with cubism. In his first comedy for the stage, the popular actor and screenwriter plays fast and loose with fact, fame, and fortune as these two geniuses muse on the century’s achievements and prospects, as well as other fanciful topics, with infectious dizziness.</p><p>*This show contains mature themes.*</p><p>Presented by Cherokee Theatre Company</p><p><strong>Tickets available at&nbsp;<a href="http://www.cherokeetheatre.org" target="_blank">http://www.cherokeetheatre.org/</a></strong></p><p><strong>Ticketing Questions:</strong><br><a href="mailto:&#98;&#111;&#120;&#111;&#102;&#102;&#105;&#99;&#101;&#64;&#99;&#104;&#101;&#114;&#111;&#107;&#101;&#101;&#116;&#104;&#101;&#97;&#116;&#114;&#101;&#46;&#111;&#114;&#103;">boxoffice@cherokeetheatre.org</a><br>or call us at &nbsp;770.591.0282</p><p></p>
LOCATION:Canton Theatre\, 171 E Main St. Canton\, Georgia 30114
CLASS:PUBLIC
END:VEVENT
END:VCALENDAR
