BEGIN:VCALENDAR
VERSION:2.0
PRODID:Canton, GA Calendar Creator
METHOD:PUBLISH
BEGIN:VEVENT
DTSTAMP:20220103T164628
DTSTART:20220205T120000
DTEND:20220205T180000
SUMMARY:Downtown Canton Chocolate Walk
DESCRIPTION:<p>Join us for an afternoon of shopping and chocolate in Downtown Canton! Stroll the beautiful streets, visit your favorite shops&nbsp;and sample&nbsp;chocolate provided by our Downtown businesses. Don't worry, you'll have a goody box to take home any uneaten chocolate....wouldn't want it to go to waste! Tickets will go on sale soon!&nbsp;</p><p></p>
X-ALT-DESC;FMTTYPE=text/html:<p>Join us for an afternoon of shopping and chocolate in Downtown Canton! Stroll the beautiful streets, visit your favorite shops&nbsp;and sample&nbsp;chocolate provided by our Downtown businesses. Don't worry, you'll have a goody box to take home any uneaten chocolate....wouldn't want it to go to waste! Tickets will go on sale soon!&nbsp;</p><p></p>
LOCATION:Downtown Canton\, 130 East Main Street Canton\, Georgia 30114
CLASS:PUBLIC
END:VEVENT
END:VCALENDAR
