BEGIN:VCALENDAR
VERSION:2.0
PRODID:Canton, GA Calendar Creator
METHOD:PUBLISH
BEGIN:VEVENT
DTSTAMP:20211213T112916
DTSTART:20211221T150000
DTEND:20211221T170000
SUMMARY:Feature Showing- "Elf" The Movie
DESCRIPTION:<p>**This event is sold out**Join us for a showing of the 2003 film "Elf". Thanks to our sponsors at T-Mobile, concessions will be complimentary and Santa will be available for pictures following the film. Tickets on sale December 9, both online and in person at the Canton Theatre Box Office. </p><p>&nbsp;</p><p>&nbsp;</p><p></p>
X-ALT-DESC;FMTTYPE=text/html:<p>**This event is sold out**Join us for a showing of the 2003 film "Elf". Thanks to our sponsors at T-Mobile, concessions will be complimentary and Santa will be available for pictures following the film. Tickets on sale December 9, both online and in person at the Canton Theatre Box Office. </p><p>&nbsp;</p><p>&nbsp;</p><p></p>
LOCATION:Canton Theatre\, 171 E Main St. Canton\, Georgia 30114
CLASS:PUBLIC
END:VEVENT
END:VCALENDAR
