BEGIN:VCALENDAR
VERSION:2.0
PRODID:Canton, GA Calendar Creator
METHOD:PUBLISH
BEGIN:VEVENT
DTSTAMP:20211102T104655
DTSTART:20211127T100000
DTEND:20211127T220000
SUMMARY:Small Business Saturday
DESCRIPTION:<p>Join us as we&nbsp;<a g5ia77u1="" qu0x051f="" esr5mh6w="" e9989ue4="" r7d6kgcz="" rq0escxv="" nhd2j8a9="" nc684nl6="" p7hjln8o="" kvgmc6g5="" cxmmr5t8="" oygrvhab="" hcukyx3x="" jb3vyjys="" rz4wbd8a="" qt6c0cv9="" a8nywdso="" i1ao9s8h="" esuyzwwr="" f1sip0of="" lzcic4wl="" oo9gr5id="" gpro0wi8="" lrazzd5p"="" href="https://www.facebook.com/hashtag/lovelocal?__eep__=6&amp;__cft__[0]=AZW05pipj4lO7EPT9tqX3t4kPy7gQKM31Rw9rqq_uUFcMenHT8i2bTSWp2Q-bxl7C2n-tP9ClRQwKRSb2mfhizSkrtE0jjs2HFgX_30lB-1MBK4wljj27h4_iZio4B-FzKAW3NE-3t5eDQbia6_M15TLClQlzjm6ECNYw_kaUyVlHg&amp;__tn__=q" role="link" tabindex="0">#lovelocal</a>,&nbsp;<a g5ia77u1="" qu0x051f="" esr5mh6w="" e9989ue4="" r7d6kgcz="" rq0escxv="" nhd2j8a9="" nc684nl6="" p7hjln8o="" kvgmc6g5="" cxmmr5t8="" oygrvhab="" hcukyx3x="" jb3vyjys="" rz4wbd8a="" qt6c0cv9="" a8nywdso="" i1ao9s8h="" esuyzwwr="" f1sip0of="" lzcic4wl="" oo9gr5id="" gpro0wi8="" lrazzd5p"="" href="https://www.facebook.com/hashtag/shopsmall?__eep__=6&amp;__cft__[0]=AZW05pipj4lO7EPT9tqX3t4kPy7gQKM31Rw9rqq_uUFcMenHT8i2bTSWp2Q-bxl7C2n-tP9ClRQwKRSb2mfhizSkrtE0jjs2HFgX_30lB-1MBK4wljj27h4_iZio4B-FzKAW3NE-3t5eDQbia6_M15TLClQlzjm6ECNYw_kaUyVlHg&amp;__tn__=q" role="link" tabindex="0">#shopsmall</a>&nbsp;and&nbsp;<a g5ia77u1="" qu0x051f="" esr5mh6w="" e9989ue4="" r7d6kgcz="" rq0escxv="" nhd2j8a9="" nc684nl6="" p7hjln8o="" kvgmc6g5="" cxmmr5t8="" oygrvhab="" hcukyx3x="" jb3vyjys="" rz4wbd8a="" qt6c0cv9="" a8nywdso="" i1ao9s8h="" esuyzwwr="" f1sip0of="" lzcic4wl="" oo9gr5id="" gpro0wi8="" lrazzd5p"="" href="https://www.facebook.com/hashtag/celebratesmallbusinesses?__eep__=6&amp;__cft__[0]=AZW05pipj4lO7EPT9tqX3t4kPy7gQKM31Rw9rqq_uUFcMenHT8i2bTSWp2Q-bxl7C2n-tP9ClRQwKRSb2mfhizSkrtE0jjs2HFgX_30lB-1MBK4wljj27h4_iZio4B-FzKAW3NE-3t5eDQbia6_M15TLClQlzjm6ECNYw_kaUyVlHg&amp;__tn__=q" role="link" tabindex="0">#celebratesmallbusinesses</a></p><p></p>
X-ALT-DESC;FMTTYPE=text/html:<p>Join us as we&nbsp;<a g5ia77u1="" qu0x051f="" esr5mh6w="" e9989ue4="" r7d6kgcz="" rq0escxv="" nhd2j8a9="" nc684nl6="" p7hjln8o="" kvgmc6g5="" cxmmr5t8="" oygrvhab="" hcukyx3x="" jb3vyjys="" rz4wbd8a="" qt6c0cv9="" a8nywdso="" i1ao9s8h="" esuyzwwr="" f1sip0of="" lzcic4wl="" oo9gr5id="" gpro0wi8="" lrazzd5p"="" href="https://www.facebook.com/hashtag/lovelocal?__eep__=6&amp;__cft__[0]=AZW05pipj4lO7EPT9tqX3t4kPy7gQKM31Rw9rqq_uUFcMenHT8i2bTSWp2Q-bxl7C2n-tP9ClRQwKRSb2mfhizSkrtE0jjs2HFgX_30lB-1MBK4wljj27h4_iZio4B-FzKAW3NE-3t5eDQbia6_M15TLClQlzjm6ECNYw_kaUyVlHg&amp;__tn__=q" role="link" tabindex="0">#lovelocal</a>,&nbsp;<a g5ia77u1="" qu0x051f="" esr5mh6w="" e9989ue4="" r7d6kgcz="" rq0escxv="" nhd2j8a9="" nc684nl6="" p7hjln8o="" kvgmc6g5="" cxmmr5t8="" oygrvhab="" hcukyx3x="" jb3vyjys="" rz4wbd8a="" qt6c0cv9="" a8nywdso="" i1ao9s8h="" esuyzwwr="" f1sip0of="" lzcic4wl="" oo9gr5id="" gpro0wi8="" lrazzd5p"="" href="https://www.facebook.com/hashtag/shopsmall?__eep__=6&amp;__cft__[0]=AZW05pipj4lO7EPT9tqX3t4kPy7gQKM31Rw9rqq_uUFcMenHT8i2bTSWp2Q-bxl7C2n-tP9ClRQwKRSb2mfhizSkrtE0jjs2HFgX_30lB-1MBK4wljj27h4_iZio4B-FzKAW3NE-3t5eDQbia6_M15TLClQlzjm6ECNYw_kaUyVlHg&amp;__tn__=q" role="link" tabindex="0">#shopsmall</a>&nbsp;and&nbsp;<a g5ia77u1="" qu0x051f="" esr5mh6w="" e9989ue4="" r7d6kgcz="" rq0escxv="" nhd2j8a9="" nc684nl6="" p7hjln8o="" kvgmc6g5="" cxmmr5t8="" oygrvhab="" hcukyx3x="" jb3vyjys="" rz4wbd8a="" qt6c0cv9="" a8nywdso="" i1ao9s8h="" esuyzwwr="" f1sip0of="" lzcic4wl="" oo9gr5id="" gpro0wi8="" lrazzd5p"="" href="https://www.facebook.com/hashtag/celebratesmallbusinesses?__eep__=6&amp;__cft__[0]=AZW05pipj4lO7EPT9tqX3t4kPy7gQKM31Rw9rqq_uUFcMenHT8i2bTSWp2Q-bxl7C2n-tP9ClRQwKRSb2mfhizSkrtE0jjs2HFgX_30lB-1MBK4wljj27h4_iZio4B-FzKAW3NE-3t5eDQbia6_M15TLClQlzjm6ECNYw_kaUyVlHg&amp;__tn__=q" role="link" tabindex="0">#celebratesmallbusinesses</a></p><p></p>
LOCATION:Downtown Canton\, 130 East Main Street Canton\, Georgia 30114
CLASS:PUBLIC
END:VEVENT
END:VCALENDAR
